BEGIN:VCALENDAR
VERSION:2.0
PRODID:FDH
BEGIN:VEVENT
UID:69e6645d16187
DTSTART:20260930T143000
SEQUENCE:0
TRANSP:OPAQUE
DTEND:20260930T163000
SUMMARY:FDH Arbeitskreis: Ohrakupunktur-Thema: Schlafstörung
CLASS:PUBLIC
DESCRIPTION:Bringen Sie gerne eigene Fälle zum Thema mit\, für die Therap
 iekonzepte erstellt werden können. | Ort: Fachverband Deutscher Heilprakt
 iker Landesverband Hamburg e. V.\, Seminarraum\, Conventstraße 14\, 22089
  Hamburg-Eilbek
DTSTAMP:20260420T193733Z
END:VEVENT
END:VCALENDAR