BEGIN:VCALENDAR
VERSION:2.0
PRODID:FDH
BEGIN:VEVENT
UID:69e664997ab24
DTSTART:20260923T143000
SEQUENCE:0
TRANSP:OPAQUE
DTEND:20260923T163000
SUMMARY:FDH Arbeitskreis: Bewegungsapparat
CLASS:PUBLIC
DESCRIPTION: | Ort: Fachverband Deutscher Heilpraktiker Landesverband Hambu
 rg e. V.\, Seminarraum\, Conventstraße 14\, 22089 Hamburg-Eilbek
DTSTAMP:20260420T193833Z
END:VEVENT
END:VCALENDAR