BEGIN:VCALENDAR
VERSION:2.0
PRODID:FDH
BEGIN:VEVENT
UID:69e886b53d147
DTSTART:20260923T170000
SEQUENCE:0
TRANSP:OPAQUE
DTEND:20260923T190000
SUMMARY:FDH Arbeitskreis: Invasive Therapien sowie Behandlungskonzepte
CLASS:PUBLIC
DESCRIPTION: | Ort: Fachverband Deutscher Heilpraktiker Landesverband Hambu
 rg e. V.\, Seminarraum\, Conventstraße 14\, 22089 Hamburg-Eilbek
DTSTAMP:20260422T102837Z
END:VEVENT
END:VCALENDAR