BEGIN:VCALENDAR
VERSION:2.0
PRODID:FDH
BEGIN:VEVENT
UID:69e53f6cc55ac
DTSTART:20260610T170000
SEQUENCE:0
TRANSP:OPAQUE
DTEND:20260610T190000
SUMMARY:FDH Arbeitskreis: Wenn die Seele den Körper krank macht - Psychoso
 matische Beschwerden
CLASS:PUBLIC
DESCRIPTION:Bitte gerne mitbringen: Materia medica und Repertorium | Ort: F
 achverband Deutscher Heilpraktiker Landesverband Hamburg e. V.\, Seminarra
 um\, Conventstraße 14\, 22089 Hamburg-Eilbek
DTSTAMP:20260419T224740Z
END:VEVENT
END:VCALENDAR