BEGIN:VCALENDAR
VERSION:2.0
PRODID:FDH
BEGIN:VEVENT
UID:69e5288aa4e86
DTSTART:20261104T170000
SEQUENCE:0
TRANSP:OPAQUE
DTEND:20261104T190000
SUMMARY:FDH Arbeitskreis: Homöopathie - das Thema wird noch bekanntgegeben
CLASS:PUBLIC
DESCRIPTION:Bitte gerne mitbringen: Materia medica und Repertorium | Ort: F
 achverband Deutscher Heilpraktiker Landesverband Hamburg e. V.\, Seminarra
 um\, Conventstraße 14\, 22089 Hamburg-Eilbek
DTSTAMP:20260419T211002Z
END:VEVENT
END:VCALENDAR