BEGIN:VCALENDAR
VERSION:2.0
PRODID:FDH
BEGIN:VEVENT
UID:69e6657a6e3a4
DTSTART:20260916T173000
SEQUENCE:0
TRANSP:OPAQUE
DTEND:20260916T190000
SUMMARY:FDH Online-Veranstaltung: Dentosophie
CLASS:PUBLIC
DESCRIPTION: | Ort: des FDH\, Landesverband Hamburg\, * *\, * *
DTSTAMP:20260420T194218Z
END:VEVENT
END:VCALENDAR