BEGIN:VCALENDAR
VERSION:2.0
PRODID:FDH
BEGIN:VEVENT
UID:69e5293896445
DTSTART:20260422T180000
SEQUENCE:0
TRANSP:OPAQUE
DTEND:20260422T193000
SUMMARY:FDH Online-Veranstaltung: Haut & Darm
CLASS:PUBLIC
DESCRIPTION: | Ort: des FDH\, Landesverband Hamburg\, * *\, * *
DTSTAMP:20260419T211256Z
END:VEVENT
END:VCALENDAR