BEGIN:VCALENDAR
VERSION:2.0
PRODID:FDH
BEGIN:VEVENT
UID:69e52a393606b
DTSTART:20260420T183000
SEQUENCE:0
TRANSP:OPAQUE
DTEND:20260420T210000
SUMMARY:FDH Online-Veranstaltung: Bachblüten Basisseminar
CLASS:PUBLIC
DESCRIPTION: | Ort: Online-Veranstaltung des FDH\, Landesverband Baden-Wür
 ttemberg\, * *\, * *
DTSTAMP:20260419T211713Z
END:VEVENT
END:VCALENDAR