BEGIN:VCALENDAR
VERSION:2.0
PRODID:FDH
BEGIN:VEVENT
UID:69e5268fd9d4d
DTSTART:20260615T180000
SEQUENCE:0
TRANSP:OPAQUE
DTEND:20260615T211500
SUMMARY:FDH Online-Veranstaltung: Klassische Homöopathie - an 6 Abenden
CLASS:PUBLIC
DESCRIPTION: | Ort: Online-Veranstaltung des FDH\, Landesverband Baden-Wür
 ttemberg\, * *\, * *
DTSTAMP:20260419T210135Z
END:VEVENT
END:VCALENDAR