BEGIN:VCALENDAR
VERSION:2.0
PRODID:FDH
BEGIN:VEVENT
UID:69e527a5f1589
DTSTART:20260617T180000
SEQUENCE:0
TRANSP:OPAQUE
DTEND:20260617T210000
SUMMARY:FDH Online-Veranstaltung: Supplemente in Patientenhand – eine Her
 ausforderung für die Naturheilpraxis
CLASS:PUBLIC
DESCRIPTION: | Ort: Online-Veranstaltung des FDH\, Landesverband Baden-Wür
 ttemberg\, * *\, * *
DTSTAMP:20260419T210613Z
END:VEVENT
END:VCALENDAR