BEGIN:VCALENDAR
VERSION:2.0
PRODID:FDH
BEGIN:VEVENT
UID:69e5270347e55
DTSTART:20261008T190000
SEQUENCE:0
TRANSP:OPAQUE
DTEND:20261008T204500
SUMMARY:FDH Online-Veranstaltung: Schüssler-Therapie Grundausbildung - 5 A
 bende
CLASS:PUBLIC
DESCRIPTION: | Ort: Online-Veranstaltung des FDH\, Landesverband Baden-Wür
 ttemberg\, * *\, * *
DTSTAMP:20260419T210331Z
END:VEVENT
END:VCALENDAR