BEGIN:VCALENDAR
VERSION:2.0
PRODID:FDH
BEGIN:VEVENT
UID:69e5293876cb3
DTSTART:20260519T190000
SEQUENCE:0
TRANSP:OPAQUE
DTEND:20260519T210000
SUMMARY:FDH Online-Veranstaltung: Natürliche Unterstützung bei Kinderwuns
 ch
CLASS:PUBLIC
DESCRIPTION: | Ort: Online-Veranstaltung des FDH\, Landesverband Bayern\, *
  *\, * *
DTSTAMP:20260419T211256Z
END:VEVENT
END:VCALENDAR