BEGIN:VCALENDAR
VERSION:2.0
PRODID:FDH
BEGIN:VEVENT
UID:69e540ff83e5e
DTSTART:20260627T140000
SEQUENCE:0
TRANSP:OPAQUE
DTEND:20260627T180000
SUMMARY:FDH Online-Veranstaltung: Haut und Darm
CLASS:PUBLIC
DESCRIPTION: | Ort: Online-Veranstaltung des FDH\, Landesverband Bayern\, *
  *\, * *
DTSTAMP:20260419T225423Z
END:VEVENT
END:VCALENDAR