BEGIN:VCALENDAR
VERSION:2.0
PRODID:FDH
BEGIN:VEVENT
UID:69e527a686f8f
DTSTART:20260724T180000
SEQUENCE:0
TRANSP:OPAQUE
DTEND:20260724T210000
SUMMARY:FDH Online-Veranstaltung: Bewährte Infusionskonzepte
CLASS:PUBLIC
DESCRIPTION: | Ort: Online-Veranstaltung des FDH\, Landesverband Bayern\, *
  *\, * *
DTSTAMP:20260419T210614Z
END:VEVENT
END:VCALENDAR