BEGIN:VCALENDAR
VERSION:2.0
PRODID:FDH
BEGIN:VEVENT
UID:69e6644c33780
DTSTART:20260919T140000
SEQUENCE:0
TRANSP:OPAQUE
DTEND:20260919T180000
SUMMARY:FDH Online-Veranstaltung: Wunderwerk Zirbeldrüse (Epiphyse)
CLASS:PUBLIC
DESCRIPTION: | Ort: Online-Veranstaltung des FDH\, Landesverband Bayern\, *
  *\, * *
DTSTAMP:20260420T193716Z
END:VEVENT
END:VCALENDAR