BEGIN:VCALENDAR
VERSION:2.0
PRODID:FDH
BEGIN:VEVENT
UID:69e663958a5b2
DTSTART:20260930T180000
SEQUENCE:0
TRANSP:OPAQUE
DTEND:20260930T210000
SUMMARY:FDH Online-Veranstaltung: Knospentherapie in der Kinderheilkunde
CLASS:PUBLIC
DESCRIPTION: | Ort: Online-Veranstaltung des FDH\, Landesverband Bayern\, *
  *\, * *
DTSTAMP:20260420T193413Z
END:VEVENT
END:VCALENDAR