BEGIN:VCALENDAR
VERSION:2.0
PRODID:FDH
BEGIN:VEVENT
UID:69e529eb630d2
DTSTART:20260613T100000
SEQUENCE:0
TRANSP:OPAQUE
DTEND:20260613T140000
SUMMARY:FDH Online-Veranstaltung: Naturheilkundliche Therapieansätze bei a
 kuten Infekten von Harn- und Atemwegen
CLASS:PUBLIC
DESCRIPTION: | Ort: des FDH\, Landesverband Hamburg\, * *\, * *
DTSTAMP:20260419T211555Z
END:VEVENT
END:VCALENDAR