BEGIN:VCALENDAR
VERSION:2.0
PRODID:FDH
BEGIN:VEVENT
UID:69e5274cb56e5
DTSTART:20260613T100000
SEQUENCE:0
TRANSP:OPAQUE
DTEND:20260613T140000
SUMMARY:FDH Fachseminar: Naturheilkundliche Therapieansätze bei akuten Inf
 ekten von Harn- und Atemwegen
CLASS:PUBLIC
DESCRIPTION: | Ort: des FDH\, Landesverband Hamburg\, * *\, * *
DTSTAMP:20260419T210444Z
END:VEVENT
END:VCALENDAR