BEGIN:VCALENDAR
VERSION:2.0
PRODID:FDH
BEGIN:VEVENT
UID:69e526e9d6cc8
DTSTART:20260902T150000
SEQUENCE:0
TRANSP:OPAQUE
DTEND:20260902T180000
SUMMARY:FDH Online-Veranstaltung: Abrechnung in der Praxis - Die Gebühreno
 rdnung für Heilpraktiker (GebüH)
CLASS:PUBLIC
DESCRIPTION:Die GebüH - (k)ein Hexenwerk!? | Ort: Online-Veranstaltung des
  FDH\, Landesverband Schleswig-Holstein\, * *\, * *
DTSTAMP:20260419T210305Z
END:VEVENT
END:VCALENDAR